BEGIN:VCALENDAR
VERSION:2.0
PRODID:-//Maryland Business Roundtable for Education - ECPv6.15.20//NONSGML v1.0//EN
CALSCALE:GREGORIAN
METHOD:PUBLISH
X-WR-CALNAME:Maryland Business Roundtable for Education
X-ORIGINAL-URL:https://mbrt.org
X-WR-CALDESC:Events for Maryland Business Roundtable for Education
REFRESH-INTERVAL;VALUE=DURATION:PT1H
X-Robots-Tag:noindex
X-PUBLISHED-TTL:PT1H
BEGIN:VTIMEZONE
TZID:UTC
BEGIN:STANDARD
TZOFFSETFROM:+0000
TZOFFSETTO:+0000
TZNAME:UTC
DTSTART:20240101T000000
END:STANDARD
END:VTIMEZONE
BEGIN:VEVENT
DTSTART;TZID=UTC:20250804T100000
DTEND;TZID=UTC:20250805T130000
DTSTAMP:20260421T210641
CREATED:20250521T173624Z
LAST-MODIFIED:20250521T174312Z
UID:25569-1754301600-1754398800@mbrt.org
SUMMARY:College Bootcamp - Dorchester County
DESCRIPTION:College Bootcamp is an intensive\, on-campus experience designed to support rising high school seniors as they prepare for their next big step. In just ten action-packed hours\, students receive real-time guidance on every aspect of the college application process—directly from the experts.  
URL:https://mbrt.org/event/college-bootcamp/
LOCATION:Chesapeake College\, Cambridge Center\, 418 Race St\, Cambridge\, MD\, 21613\, United States
ATTACH;FMTTYPE=image/png:https://mbrt.org/wp-content/uploads/2023/11/SP-College_Bootcamp-1-e1747834920478.png
ORGANIZER;CN="Maryland Business Roundtable for Education":MAILTO:info@mbrt.org
END:VEVENT
BEGIN:VEVENT
DTSTART;TZID=UTC:20250805T100000
DTEND;TZID=UTC:20250806T130000
DTSTAMP:20260421T210641
CREATED:20250521T174630Z
LAST-MODIFIED:20250521T174630Z
UID:25578-1754388000-1754485200@mbrt.org
SUMMARY:College Bootcamp - Allegany County
DESCRIPTION:College Bootcamp is an intensive\, on-campus experience designed to support rising high school seniors as they prepare for their next big step. In just ten action-packed hours\, students receive real-time guidance on every aspect of the college application process—directly from the experts.  
URL:https://mbrt.org/event/college-bootcamp-allegany-county/
LOCATION:Salvation Army\, 701 E 1st St\, Cumberland\, MD\, 21502\, United States
ATTACH;FMTTYPE=image/png:https://mbrt.org/wp-content/uploads/2023/11/SP-College_Bootcamp.png
ORGANIZER;CN="Maryland Business Roundtable for Education":MAILTO:info@mbrt.org
END:VEVENT
BEGIN:VEVENT
DTSTART;TZID=UTC:20250805T100000
DTEND;TZID=UTC:20250806T130000
DTSTAMP:20260421T210641
CREATED:20250521T174734Z
LAST-MODIFIED:20250521T174734Z
UID:25581-1754388000-1754485200@mbrt.org
SUMMARY:College Bootcamp - Wicomico County
DESCRIPTION:College Bootcamp is an intensive\, on-campus experience designed to support rising high school seniors as they prepare for their next big step. In just ten action-packed hours\, students receive real-time guidance on every aspect of the college application process—directly from the experts.  
URL:https://mbrt.org/event/college-bootcamp-wicomico-county/
LOCATION:Wicomico High School\, Media Center\, 201 Long Avenue\, Salisbury\, MD\, United States
ATTACH;FMTTYPE=image/png:https://mbrt.org/wp-content/uploads/2023/11/SP-College_Bootcamp.png
ORGANIZER;CN="Maryland Business Roundtable for Education":MAILTO:info@mbrt.org
END:VEVENT
BEGIN:VEVENT
DTSTART;TZID=UTC:20250805T160000
DTEND;TZID=UTC:20250805T200000
DTSTAMP:20260421T210641
CREATED:20250618T195931Z
LAST-MODIFIED:20250618T195931Z
UID:25673-1754409600-1754424000@mbrt.org
SUMMARY:Summer of Service: National Night Out
DESCRIPTION:MBRT is pleased to highlight summer engagement activities that extends student learning through summer bridge activities\, through participation in camps\, skills building workshops and work opportunities. For more information about this event\, please reach out to the local program team member.  \nNational Night Out| Allegany County: Students support community awareness and community involvement.
URL:https://mbrt.org/event/summer-of-service-national-night-out/
LOCATION:MD
ATTACH;FMTTYPE=image/png:https://mbrt.org/wp-content/uploads/2023/11/SP-Summer_Service-1.png
END:VEVENT
BEGIN:VEVENT
DTSTART;TZID=UTC:20250812T093000
DTEND;TZID=UTC:20250813T130000
DTSTAMP:20260421T210641
CREATED:20250521T175435Z
LAST-MODIFIED:20250521T175435Z
UID:25583-1754991000-1755090000@mbrt.org
SUMMARY:College Bootcamp - Caroline + Kent Counties
DESCRIPTION:College Bootcamp is an intensive\, on-campus experience designed to support rising high school seniors as they prepare for their next big step. In just ten action-packed hours\, students receive real-time guidance on every aspect of the college application process—directly from the experts.  
URL:https://mbrt.org/event/college-bootcamp-caroline-kent-counties/
LOCATION:Washington College\, 300 Washington Ave\, Chestertown\, MD\, 21620\, United States
ATTACH;FMTTYPE=image/png:https://mbrt.org/wp-content/uploads/2023/11/SP-College_Bootcamp.png
ORGANIZER;CN="Maryland Business Roundtable for Education":MAILTO:info@mbrt.org
END:VEVENT
BEGIN:VEVENT
DTSTART;TZID=UTC:20250815T170000
DTEND;TZID=UTC:20250815T210000
DTSTAMP:20260421T210641
CREATED:20250618T200448Z
LAST-MODIFIED:20250618T200935Z
UID:25679-1755277200-1755291600@mbrt.org
SUMMARY:Summer of Service: Caroline Summerfest
DESCRIPTION:MBRT is pleased to highlight summer engagement activities that extends student learning through summer bridge activities\, through participation in camps\, skills building workshops and work opportunities. For more information about this event\, please reach out to the local program team member.  \nCAROLINE SUMMERFEST | Caroline County: Enjoy all that Summerfest has to offer… and give back a little too! Help the children and family booths facilitate fun activities that match the Summerfest theme: Go Back to the 80s.
URL:https://mbrt.org/event/summer-of-service-caroline-summerfest/
LOCATION:MD
ATTACH;FMTTYPE=image/png:https://mbrt.org/wp-content/uploads/2023/11/SP-Summer_Service-1.png
END:VEVENT
END:VCALENDAR