BEGIN:VCALENDAR
VERSION:2.0
PRODID:-//Maryland Business Roundtable for Education - ECPv6.15.20//NONSGML v1.0//EN
CALSCALE:GREGORIAN
METHOD:PUBLISH
X-WR-CALNAME:Maryland Business Roundtable for Education
X-ORIGINAL-URL:https://mbrt.org
X-WR-CALDESC:Events for Maryland Business Roundtable for Education
REFRESH-INTERVAL;VALUE=DURATION:PT1H
X-Robots-Tag:noindex
X-PUBLISHED-TTL:PT1H
BEGIN:VTIMEZONE
TZID:America/New_York
BEGIN:DAYLIGHT
TZOFFSETFROM:-0500
TZOFFSETTO:-0400
TZNAME:EDT
DTSTART:20240310T070000
END:DAYLIGHT
BEGIN:STANDARD
TZOFFSETFROM:-0400
TZOFFSETTO:-0500
TZNAME:EST
DTSTART:20241103T060000
END:STANDARD
BEGIN:DAYLIGHT
TZOFFSETFROM:-0500
TZOFFSETTO:-0400
TZNAME:EDT
DTSTART:20250309T070000
END:DAYLIGHT
BEGIN:STANDARD
TZOFFSETFROM:-0400
TZOFFSETTO:-0500
TZNAME:EST
DTSTART:20251102T060000
END:STANDARD
BEGIN:DAYLIGHT
TZOFFSETFROM:-0500
TZOFFSETTO:-0400
TZNAME:EDT
DTSTART:20260308T070000
END:DAYLIGHT
BEGIN:STANDARD
TZOFFSETFROM:-0400
TZOFFSETTO:-0500
TZNAME:EST
DTSTART:20261101T060000
END:STANDARD
END:VTIMEZONE
BEGIN:VEVENT
DTSTART;TZID=America/New_York:20251023T120000
DTEND;TZID=America/New_York:20251023T130000
DTSTAMP:20260421T191130
CREATED:20251014T184539Z
LAST-MODIFIED:20251014T185402Z
UID:26125-1761220800-1761224400@mbrt.org
SUMMARY:Speakers Bureau - Ready\, Set\, Speak! Volunteer Training
DESCRIPTION:
URL:https://mbrt.org/event/speakers-bureau-ready-set-speak-volunteer-training-2/
LOCATION:Virtual Meeting\, N/A\, N/A\, United States
ATTACH;FMTTYPE=image/jpeg:https://mbrt.org/wp-content/uploads/2023/06/mbrt-logo.jpg
ORGANIZER;CN="Maryland Business Roundtable for Education":MAILTO:info@mbrt.org
END:VEVENT
END:VCALENDAR